BEGIN:VCALENDAR
VERSION:2.0
PRODID:-//Washington DC - ECPv6.15.20//NONSGML v1.0//EN
CALSCALE:GREGORIAN
METHOD:PUBLISH
X-WR-CALNAME:Washington DC
X-ORIGINAL-URL:https://washingtondc.cisvusa.org
X-WR-CALDESC:Events for Washington DC
REFRESH-INTERVAL;VALUE=DURATION:PT1H
X-Robots-Tag:noindex
X-PUBLISHED-TTL:PT1H
BEGIN:VTIMEZONE
TZID:America/New_York
BEGIN:DAYLIGHT
TZOFFSETFROM:-0500
TZOFFSETTO:-0400
TZNAME:EDT
DTSTART:20200308T070000
END:DAYLIGHT
BEGIN:STANDARD
TZOFFSETFROM:-0400
TZOFFSETTO:-0500
TZNAME:EST
DTSTART:20201101T060000
END:STANDARD
BEGIN:DAYLIGHT
TZOFFSETFROM:-0500
TZOFFSETTO:-0400
TZNAME:EDT
DTSTART:20210314T070000
END:DAYLIGHT
BEGIN:STANDARD
TZOFFSETFROM:-0400
TZOFFSETTO:-0500
TZNAME:EST
DTSTART:20211107T060000
END:STANDARD
BEGIN:DAYLIGHT
TZOFFSETFROM:-0500
TZOFFSETTO:-0400
TZNAME:EDT
DTSTART:20220313T070000
END:DAYLIGHT
BEGIN:STANDARD
TZOFFSETFROM:-0400
TZOFFSETTO:-0500
TZNAME:EST
DTSTART:20221106T060000
END:STANDARD
END:VTIMEZONE
BEGIN:VEVENT
DTSTART;TZID=America/New_York:20211026T190000
DTEND;TZID=America/New_York:20211026T203000
DTSTAMP:20260420T034651
CREATED:20211019T004922Z
LAST-MODIFIED:20211019T034737Z
UID:10000011-1635274800-1635280200@washingtondc.cisvusa.org
SUMMARY:CISV DC Virtual General Meeting
DESCRIPTION:Join us on Tuesday\, October 26 at 7pm on zoom to check in and hear updates about the 2022 program year! This meeting is open to new and returning families\, leaders\, and JBers. Following chapter updates\, there will be breakout sessions for JBers to do an activity and for new families to learn all things CISV. Returning families are welcomed to join the new family session as well! \nWe hope to see you there!
URL:https://washingtondc.cisvusa.org/event/cisv-dc-virtual-general-meeting/
CATEGORIES:General Meeting
END:VEVENT
END:VCALENDAR