BEGIN:VCALENDAR
VERSION:2.0
PRODID:-//Washington DC - ECPv6.15.20//NONSGML v1.0//EN
CALSCALE:GREGORIAN
METHOD:PUBLISH
X-WR-CALNAME:Washington DC
X-ORIGINAL-URL:https://washingtondc.cisvusa.org
X-WR-CALDESC:Events for Washington DC
REFRESH-INTERVAL;VALUE=DURATION:PT1H
X-Robots-Tag:noindex
X-PUBLISHED-TTL:PT1H
BEGIN:VTIMEZONE
TZID:America/New_York
BEGIN:DAYLIGHT
TZOFFSETFROM:-0500
TZOFFSETTO:-0400
TZNAME:EDT
DTSTART:20200308T070000
END:DAYLIGHT
BEGIN:STANDARD
TZOFFSETFROM:-0400
TZOFFSETTO:-0500
TZNAME:EST
DTSTART:20201101T060000
END:STANDARD
BEGIN:DAYLIGHT
TZOFFSETFROM:-0500
TZOFFSETTO:-0400
TZNAME:EDT
DTSTART:20210314T070000
END:DAYLIGHT
BEGIN:STANDARD
TZOFFSETFROM:-0400
TZOFFSETTO:-0500
TZNAME:EST
DTSTART:20211107T060000
END:STANDARD
BEGIN:DAYLIGHT
TZOFFSETFROM:-0500
TZOFFSETTO:-0400
TZNAME:EDT
DTSTART:20220313T070000
END:DAYLIGHT
BEGIN:STANDARD
TZOFFSETFROM:-0400
TZOFFSETTO:-0500
TZNAME:EST
DTSTART:20221106T060000
END:STANDARD
BEGIN:DAYLIGHT
TZOFFSETFROM:-0500
TZOFFSETTO:-0400
TZNAME:EDT
DTSTART:20230312T070000
END:DAYLIGHT
BEGIN:STANDARD
TZOFFSETFROM:-0400
TZOFFSETTO:-0500
TZNAME:EST
DTSTART:20231105T060000
END:STANDARD
BEGIN:DAYLIGHT
TZOFFSETFROM:-0500
TZOFFSETTO:-0400
TZNAME:EDT
DTSTART:20240310T070000
END:DAYLIGHT
BEGIN:STANDARD
TZOFFSETFROM:-0400
TZOFFSETTO:-0500
TZNAME:EST
DTSTART:20241103T060000
END:STANDARD
BEGIN:DAYLIGHT
TZOFFSETFROM:-0500
TZOFFSETTO:-0400
TZNAME:EDT
DTSTART:20250309T070000
END:DAYLIGHT
BEGIN:STANDARD
TZOFFSETFROM:-0400
TZOFFSETTO:-0500
TZNAME:EST
DTSTART:20251102T060000
END:STANDARD
BEGIN:DAYLIGHT
TZOFFSETFROM:-0500
TZOFFSETTO:-0400
TZNAME:EDT
DTSTART:20260308T070000
END:DAYLIGHT
BEGIN:STANDARD
TZOFFSETFROM:-0400
TZOFFSETTO:-0500
TZNAME:EST
DTSTART:20261101T060000
END:STANDARD
END:VTIMEZONE
BEGIN:VEVENT
DTSTART;TZID=America/New_York:20251205T190000
DTEND;TZID=America/New_York:20251207T100000
DTSTAMP:20260421T005556
CREATED:20250923T164659Z
LAST-MODIFIED:20251201T024112Z
UID:10000015-1764961200-1765101600@washingtondc.cisvusa.org
SUMMARY:CISV DC Fall Mini Camp 2025
DESCRIPTION:Join us for the\n2025 Chapter Mini-Camp\nTheme: Oh\, the Places You’ll Go!\nWe are happy and excited to kick off our 2025 Oh\, the Places You’ll Go! Mini Camp to our CISV DC families & friends. We are returning to Camp Letts YMCA in Edgewater\, Md. As an organization dedicated to inclusivity\, CISV Washington DC welcomes youth with all experiences and backgrounds from all over the DC\, Maryland & Virginia area. Also\, anyone applying for 2026 summer programs are encouraged to attend. \nCheck in is on Friday\, December 5\, from 6:00 to 7:00 pm. Camp ends on Sunday morning\, December 7\, at 11:00 am. \nEarly Bird Discount Registration: Now until November 30\, 2025. \n\nDelegates (Ages 10-18): $180.00\nParent/Guardian Chaperones: $100.00\nNew & Returning Leaders: $55.00\n\nLate Registration: December 1\, 2025. \n\nDelegates (Ages 10-18): $200.00\nParent/Guardian Chaperone: $120.00\nNew & Returning Leaders: $75.00\n\nThe fee covers 2 nights of lodging\, 4 meals (Saturday breakfast through Sunday breakfast)\, and a camp t-shirt!! \nSchedule:\nCheck-in is on Friday\, December 5\, from 6:00 to 7:00 pm. (Please let us know if you will be arriving late.)\nNOTE: No dinner is served on Friday night.\nPick-up is on Sunday at 10:00 am. PLEASE BE PROMPT. \nWhat to bring:\n– Cold weather clothing (warm jacket\, boots if needed)\n– PJ’s\n– Comfy clothes\n– Running shoes for games/activities\n– Shower shoes\n– Reusable water bottle\n– Toiletries/medicines\n– Towel\n– Bedding: blanket\, sleeping bag\, pillow\n– A snack to share \n– Required forms – see below\nDietary needs?  We will do our best to accommodate special diet requests (please indicate on registration form). \nDo not bring laptops or expensive clothes/gadgets. Note that cell phone and tablet use will not be permitted by participants during the activities. \nHow to Register:\n1. Each participant must be a member of any CISV chapter.  Register here to become a member of Washington DC.\n2. Each participant must also complete the Youth Legal Form – Domestic. This form requires the signature of both the participant and a parent. Please email the completed form and health insurance card to washingtondc@cisvusa.org by December 1.  A reminder email will be sent prior to camp requesting these items.\n3. Each participant must register and pay for Chapter Mini Camp. \nNote: Please note that parents/guardians who are planning to attend must register separately from their child(ren). At this time there is no option to register them together. However\, you can register more than one child on the same registration. \nContact information and questions:\nGeneral questions: Email washingtondc@cisvusa.org or JB Advisor: Laila-Rose Galvin\nDuring camp: We will send a contact name and number before camp begins. \n 
URL:https://washingtondc.cisvusa.org/event/cisv-dc-fall-mini-camp-2025/
LOCATION:Camp Letts\, Edgewater\, MD
CATEGORIES:JB Event
ORGANIZER;CN="CISV DC JB":MAILTO:washingtondc@cisvusa.org
END:VEVENT
BEGIN:VEVENT
DTSTART;TZID=America/New_York:20211114T153000
DTEND;TZID=America/New_York:20211114T193000
DTSTAMP:20260421T005556
CREATED:20211110T231441Z
LAST-MODIFIED:20211113T191934Z
UID:10000003-1636903800-1636918200@washingtondc.cisvusa.org
SUMMARY:November JB Activity
DESCRIPTION:Calling all CISV DC JBers!! \nJoin us for our November Hike and Bonfire! \nLocation details will be sent once you RSVP. \nWe hope to see you there! \n*Please note registration will close Friday\, November 12 at 11 pm.
URL:https://washingtondc.cisvusa.org/event/november-jb-activity/
LOCATION:Great Falls Park
CATEGORIES:JB Event
ORGANIZER;CN="CISV DC JB":MAILTO:washingtondc@cisvusa.org
END:VEVENT
END:VCALENDAR