BEGIN:VCALENDAR
VERSION:2.0
PRODID:-//Washington DC - ECPv6.15.20//NONSGML v1.0//EN
CALSCALE:GREGORIAN
METHOD:PUBLISH
X-WR-CALNAME:Washington DC
X-ORIGINAL-URL:https://washingtondc.cisvusa.org
X-WR-CALDESC:Events for Washington DC
REFRESH-INTERVAL;VALUE=DURATION:PT1H
X-Robots-Tag:noindex
X-PUBLISHED-TTL:PT1H
BEGIN:VTIMEZONE
TZID:America/New_York
BEGIN:DAYLIGHT
TZOFFSETFROM:-0500
TZOFFSETTO:-0400
TZNAME:EDT
DTSTART:20230312T070000
END:DAYLIGHT
BEGIN:STANDARD
TZOFFSETFROM:-0400
TZOFFSETTO:-0500
TZNAME:EST
DTSTART:20231105T060000
END:STANDARD
BEGIN:DAYLIGHT
TZOFFSETFROM:-0500
TZOFFSETTO:-0400
TZNAME:EDT
DTSTART:20240310T070000
END:DAYLIGHT
BEGIN:STANDARD
TZOFFSETFROM:-0400
TZOFFSETTO:-0500
TZNAME:EST
DTSTART:20241103T060000
END:STANDARD
BEGIN:DAYLIGHT
TZOFFSETFROM:-0500
TZOFFSETTO:-0400
TZNAME:EDT
DTSTART:20250309T070000
END:DAYLIGHT
BEGIN:STANDARD
TZOFFSETFROM:-0400
TZOFFSETTO:-0500
TZNAME:EST
DTSTART:20251102T060000
END:STANDARD
END:VTIMEZONE
BEGIN:VEVENT
DTSTART;TZID=America/New_York:20240609T150000
DTEND;TZID=America/New_York:20240609T190000
DTSTAMP:20260425T062111
CREATED:20240323T234909Z
LAST-MODIFIED:20240323T235005Z
UID:10000005-1717945200-1717959600@washingtondc.cisvusa.org
SUMMARY:Send-Off Picnic
DESCRIPTION:Join us as we wish our delegations safe travels as they prepare to depart for camps around the world.
URL:https://washingtondc.cisvusa.org/event/send-off-picnic/
LOCATION:Rock Creek Park\, Picnic Grove #10\, Washington\, DC
END:VEVENT
END:VCALENDAR