BEGIN:VCALENDAR
VERSION:2.0
PRODID:-//Washington DC - ECPv6.15.20//NONSGML v1.0//EN
CALSCALE:GREGORIAN
METHOD:PUBLISH
X-WR-CALNAME:Washington DC
X-ORIGINAL-URL:https://washingtondc.cisvusa.org
X-WR-CALDESC:Events for Washington DC
REFRESH-INTERVAL;VALUE=DURATION:PT1H
X-Robots-Tag:noindex
X-PUBLISHED-TTL:PT1H
BEGIN:VTIMEZONE
TZID:America/New_York
BEGIN:DAYLIGHT
TZOFFSETFROM:-0500
TZOFFSETTO:-0400
TZNAME:EDT
DTSTART:20240310T070000
END:DAYLIGHT
BEGIN:STANDARD
TZOFFSETFROM:-0400
TZOFFSETTO:-0500
TZNAME:EST
DTSTART:20241103T060000
END:STANDARD
BEGIN:DAYLIGHT
TZOFFSETFROM:-0500
TZOFFSETTO:-0400
TZNAME:EDT
DTSTART:20250309T070000
END:DAYLIGHT
BEGIN:STANDARD
TZOFFSETFROM:-0400
TZOFFSETTO:-0500
TZNAME:EST
DTSTART:20251102T060000
END:STANDARD
BEGIN:DAYLIGHT
TZOFFSETFROM:-0500
TZOFFSETTO:-0400
TZNAME:EDT
DTSTART:20260308T070000
END:DAYLIGHT
BEGIN:STANDARD
TZOFFSETFROM:-0400
TZOFFSETTO:-0500
TZNAME:EST
DTSTART:20261101T060000
END:STANDARD
END:VTIMEZONE
BEGIN:VEVENT
DTSTART;TZID=America/New_York:20251108T160000
DTEND;TZID=America/New_York:20251108T180000
DTSTAMP:20260422T192807
CREATED:20250923T181926Z
LAST-MODIFIED:20251001T004907Z
UID:10000016-1762617600-1762624800@washingtondc.cisvusa.org
SUMMARY:FALL OPEN HOUSE & 2026 PROGRAM REVEAL
DESCRIPTION:Join us for our annual Fall Open House & Program Reveal. Returning families and new familes will gather for all the latest information on CISV DC Chapter\, upcoming JB activities\, and our the reveal of our 2026 summer programs. \n 
URL:https://washingtondc.cisvusa.org/event/fall-open-house-2026-program-reveal/
LOCATION:Trinity Washington University\, 125 Michigan Ave NE\, Washington\, DC\, 20017\, United States
END:VEVENT
END:VCALENDAR