BEGIN:VCALENDAR
VERSION:2.0
PRODID:-//Washington DC - ECPv6.15.20//NONSGML v1.0//EN
CALSCALE:GREGORIAN
METHOD:PUBLISH
X-WR-CALNAME:Washington DC
X-ORIGINAL-URL:https://washingtondc.cisvusa.org
X-WR-CALDESC:Events for Washington DC
REFRESH-INTERVAL;VALUE=DURATION:PT1H
X-Robots-Tag:noindex
X-PUBLISHED-TTL:PT1H
BEGIN:VTIMEZONE
TZID:America/New_York
BEGIN:DAYLIGHT
TZOFFSETFROM:-0500
TZOFFSETTO:-0400
TZNAME:EDT
DTSTART:20220313T070000
END:DAYLIGHT
BEGIN:STANDARD
TZOFFSETFROM:-0400
TZOFFSETTO:-0500
TZNAME:EST
DTSTART:20221106T060000
END:STANDARD
BEGIN:DAYLIGHT
TZOFFSETFROM:-0500
TZOFFSETTO:-0400
TZNAME:EDT
DTSTART:20230312T070000
END:DAYLIGHT
BEGIN:STANDARD
TZOFFSETFROM:-0400
TZOFFSETTO:-0500
TZNAME:EST
DTSTART:20231105T060000
END:STANDARD
BEGIN:DAYLIGHT
TZOFFSETFROM:-0500
TZOFFSETTO:-0400
TZNAME:EDT
DTSTART:20240310T070000
END:DAYLIGHT
BEGIN:STANDARD
TZOFFSETFROM:-0400
TZOFFSETTO:-0500
TZNAME:EST
DTSTART:20241103T060000
END:STANDARD
BEGIN:DAYLIGHT
TZOFFSETFROM:-0500
TZOFFSETTO:-0400
TZNAME:EDT
DTSTART:20250309T070000
END:DAYLIGHT
BEGIN:STANDARD
TZOFFSETFROM:-0400
TZOFFSETTO:-0500
TZNAME:EST
DTSTART:20251102T060000
END:STANDARD
END:VTIMEZONE
BEGIN:VEVENT
DTSTART;TZID=America/New_York:20241111T163000
DTEND;TZID=America/New_York:20241111T183000
DTSTAMP:20260421T032715
CREATED:20240909T190955Z
LAST-MODIFIED:20240930T003929Z
UID:10000012-1731342600-1731349800@washingtondc.cisvusa.org
SUMMARY:FALL OPEN HOUSE & 2025 PROGRAM REVEAL
DESCRIPTION:Join us for our annual Fall Open House & Program Reveal. Returning families and new familes will gather for all the latest information on CISV DC Chapter\, upcoming JB activities\, and our the reveal of our 2025 programs. \nClick —> HERE to register.
URL:https://washingtondc.cisvusa.org/event/fall-open-house-2025-program-reveal/
LOCATION:Marriott International Headquarters\, 7750 Wisconsin Ave\, Bethesda\, MD\, 20814\, United States
END:VEVENT
BEGIN:VEVENT
DTSTART;TZID=America/New_York:20231102T180000
DTEND;TZID=America/New_York:20231102T200000
DTSTAMP:20260421T032715
CREATED:20221109T164343Z
LAST-MODIFIED:20231018T235047Z
UID:10000008-1698948000-1698955200@washingtondc.cisvusa.org
SUMMARY:Open House & 2024 Program Reveal
DESCRIPTION:November 2\, 2024 \nBethesda\, MD \n6:00 pm ET \nREGISTER HERE
URL:https://washingtondc.cisvusa.org/event/virtual-open-house-2023-program-reveal/
LOCATION:Marriott International Headquarters\, 7750 Wisconsin Ave\, Bethesda\, MD\, 20814\, United States
ORGANIZER;CN="CISV DC Chapter Mini Camp 2025":MAILTO:washingtondc@cisvusa.org
END:VEVENT
END:VCALENDAR